BEGIN:VCALENDAR
VERSION:2.0
PRODID:-//GREPEC - ECPv5.1.5//NONSGML v1.0//EN
CALSCALE:GREGORIAN
METHOD:PUBLISH
X-WR-CALNAME:GREPEC
X-ORIGINAL-URL:https://grepec.usaintlouis.be
X-WR-CALDESC:Évènements pour GREPEC
BEGIN:VTIMEZONE
TZID:Europe/Brussels
BEGIN:DAYLIGHT
TZOFFSETFROM:+0100
TZOFFSETTO:+0200
TZNAME:CEST
DTSTART:20190331T010000
END:DAYLIGHT
BEGIN:STANDARD
TZOFFSETFROM:+0200
TZOFFSETTO:+0100
TZNAME:CET
DTSTART:20191027T010000
END:STANDARD
END:VTIMEZONE
BEGIN:VEVENT
DTSTART;TZID=Europe/Brussels:20191121T090000
DTEND;TZID=Europe/Brussels:20191121T170000
DTSTAMP:20260420T072726
CREATED:20200819T211443Z
LAST-MODIFIED:20201008T091530Z
UID:1077-1574326800-1574355600@grepec.usaintlouis.be
SUMMARY:Journée d'étude sur "Les coûts du système pénal"
DESCRIPTION:Sur une initiative de l’ASM\, l’Association Syndicale des Magistrats\, ce colloque est organisé en collaboration avec  l’INCC\, l’ULB et l’UCL\, et le CRDP.\n\nLe présent colloque envisage d’étudier le degré d’efficacité du système pénal\, de mettre en exergue ses impasses et d’examiner les pistes pour en sortir. L’option prise pour ce faire est celle des coûts du système pénal au regard des objectifs qui lui sont assignés : prévention générale\, lutte contre la récidive\, réinsertion des condam-nés\, etc. Partant des coûts de la prison\, la réflexion s’élargira à ceux de la pénalisation elle-même\, pour ensuite circonscrire les sources d’alimentation du système pénal et\, enfin\, proposer des perspectives d’avenir.Le colloque est ouvert à tous ceux qui composent avec le système pénal qu’il s’agisse des acteurs judiciaires\, des représentants politiques\, du monde académique ou associatif\, des personnes préjudiciées ou des auteurs d’infractions.Les interventions alterneront avec de larges débats avec le public\n\nLe programme est disponible ici.\n\n
URL:https://grepec.usaintlouis.be/event/journee-detude-sur-les-couts-du-systeme-penal/
LOCATION:Université Saint-Louis – Bruxelles\, Boulevard du Jardin Botanique\, 43\, Bruxelles\, 1000\, Belgique
ATTACH;FMTTYPE=image/png:https://grepec.usaintlouis.be/wp-content/uploads/2020/08/Capture-d’écran-2020-10-07-à-16.43.19.png
ORGANIZER;CN="GREPEC":MAILTO:grepec@usaintlouis.be
END:VEVENT
END:VCALENDAR