BEGIN:VCALENDAR
VERSION:2.0
PRODID:-//GREPEC - ECPv5.1.5//NONSGML v1.0//EN
CALSCALE:GREGORIAN
METHOD:PUBLISH
X-WR-CALNAME:GREPEC
X-ORIGINAL-URL:https://grepec.usaintlouis.be
X-WR-CALDESC:Évènements pour GREPEC
BEGIN:VTIMEZONE
TZID:Europe/Brussels
BEGIN:DAYLIGHT
TZOFFSETFROM:+0100
TZOFFSETTO:+0200
TZNAME:CEST
DTSTART:20220327T010000
END:DAYLIGHT
BEGIN:STANDARD
TZOFFSETFROM:+0200
TZOFFSETTO:+0100
TZNAME:CET
DTSTART:20221030T010000
END:STANDARD
END:VTIMEZONE
BEGIN:VEVENT
DTSTART;TZID=Europe/Brussels:20221017T170000
DTEND;TZID=Europe/Brussels:20221017T200000
DTSTAMP:20260420T072127
CREATED:20221007T064019Z
LAST-MODIFIED:20221007T174938Z
UID:2277-1666026000-1666036800@grepec.usaintlouis.be
SUMMARY:UB³ - Module 1 - Actualités relatives à l’enfermement des mineurs d’âge en Belgique francophone
DESCRIPTION:Le 17 octobre 2022\, de 17h à 20h\, aura lieu l’ UB³ – Module 1 : « Actualités relatives à l’enfermement des mineurs d’âge en Belgique francophone ».   \nUn événement coordonné par la professeure Christine Guillain (USL-B) et Valentine Mahieu (INCC / ULB)\, maîtresse de conférences à l’ULB. \n  \nSuite à la sixième réforme de l’État\, les entités fédérées se sont vues attribuer davantage de compétences en matière de réaction sociale à l’égard des mineurs poursuivis du chef de faits qualifiés d’infractions. Elles sont désormais chargées de déterminer la nature et les modalités des mesures qui peuvent être prises à l’égard de ces mineurs\, notamment concernant les mesures d’enfermement et le mécanisme de dessaisissement. \nCe module propose de faire le point sur les évolutions récentes relatives à l’enfermement des mineurs d’âge en Belgique francophone. Les actualités jurisprudentielles nationales et internationales en la matière seront évoquées\, tout comme les droits des mineurs privés de liberté par la police ou encore les enjeux et perspectives du mécanisme de dessaisissement et de la réforme des IPPJ. \n  \nProgramme\n\nL’enfermement du mineur délinquant : définition et contours par les organes de protection des droits fondamentaux\nPar Anne-Catherine Rasson\, doctorante\, maîtresse de conférences à l’UNamur\, chargée d’enseignement à l’USL-B et Benoit Van Keirsbilck\, directeur de Défense des enfants international Belgique\, membre du Comité des droits de l’enfant des Nations Unies.\nMineur et privation de liberté. Les droits du mineur dans le cadre de son interpellation et de son audition par les services de police\, par Delphine Paci\, assistante à l’USL-B\, avocate au barreau de Bruxelles et Stéphanie Daoust\,  substitut du procureur du Roi au parquet de Bruxelles. \nLa réforme des IPPJ\, enjeux et perspectives\, par Amaury de Terwangne\, avocat au barreau de Bruxelles et Michèle Meganck\, juge dirigeante de la section jeunesse du tribunal de première instance de Bruxelles\, vice-présidente du tribunal de première instance de Bruxelles\, secrétaire de l’Union francophone des magistrats de la jeunesse. \nLe dessaisissement : la fin des mesures protectionnelles\,  mais quelles perspectives au-delà ?\, par Clothilde Hoffmann\, assistante à l’USL-B\, substitut du procureur du Roi au parquet de Bruxelles\, Fanny Delarbre\, Attaché-Direction du Centre Communautaire pour Mineurs Dessaisis (C.C.M.D.) de Saint-Hubert\, et Adrien Miny\, attaché de direction du Centre communautaire pour mineurs dessaisis de Saint-Hubert.\n\n  \nInfos et inscription ici\n
URL:https://grepec.usaintlouis.be/event/ub%c2%b3-module-1-actualites-relatives-a-lenfermement-des-mineurs-dage-en-belgique-francophone/
LOCATION:Université Saint-Louis – Bruxelles\, Boulevard du Jardin Botanique\, 43\, Bruxelles\, 1000\, Belgique
ATTACH;FMTTYPE=image/png:https://grepec.usaintlouis.be/wp-content/uploads/2022/10/Capture-d’écran-2022-10-07-à-13.38.07.png
END:VEVENT
END:VCALENDAR